BEGIN:VCALENDAR
VERSION:2.0
PRODID:-//Les Jardiniers de Maubeuge et de la Vallée de la Sambre - ECPv6.15.20//NONSGML v1.0//EN
CALSCALE:GREGORIAN
METHOD:PUBLISH
X-ORIGINAL-URL:https://lesjardiniersdemaubeuge.fr
X-WR-CALDESC:Évènements pour Les Jardiniers de Maubeuge et de la Vallée de la Sambre
REFRESH-INTERVAL;VALUE=DURATION:PT1H
X-Robots-Tag:noindex
X-PUBLISHED-TTL:PT1H
BEGIN:VTIMEZONE
TZID:Europe/Paris
BEGIN:DAYLIGHT
TZOFFSETFROM:+0100
TZOFFSETTO:+0200
TZNAME:CEST
DTSTART:20240331T010000
END:DAYLIGHT
BEGIN:STANDARD
TZOFFSETFROM:+0200
TZOFFSETTO:+0100
TZNAME:CET
DTSTART:20241027T010000
END:STANDARD
BEGIN:DAYLIGHT
TZOFFSETFROM:+0100
TZOFFSETTO:+0200
TZNAME:CEST
DTSTART:20250330T010000
END:DAYLIGHT
BEGIN:STANDARD
TZOFFSETFROM:+0200
TZOFFSETTO:+0100
TZNAME:CET
DTSTART:20251026T010000
END:STANDARD
BEGIN:DAYLIGHT
TZOFFSETFROM:+0100
TZOFFSETTO:+0200
TZNAME:CEST
DTSTART:20260329T010000
END:DAYLIGHT
BEGIN:STANDARD
TZOFFSETFROM:+0200
TZOFFSETTO:+0100
TZNAME:CET
DTSTART:20261025T010000
END:STANDARD
END:VTIMEZONE
BEGIN:VEVENT
DTSTART;TZID=Europe/Paris:20251004T150000
DTEND;TZID=Europe/Paris:20251004T150000
DTSTAMP:20260425T030259
CREATED:20250902T190334Z
LAST-MODIFIED:20250917T202751Z
UID:2852-1759590000-1759590000@lesjardiniersdemaubeuge.fr
SUMMARY:Fabrication mangeoires pour les passereaux
DESCRIPTION:
URL:https://lesjardiniersdemaubeuge.fr/evenement/fabrication-mangeoires-pour-les-passereaux/
END:VEVENT
BEGIN:VEVENT
DTSTART;TZID=Europe/Paris:20251015T143000
DTEND;TZID=Europe/Paris:20251015T143000
DTSTAMP:20260425T030259
CREATED:20250902T190543Z
LAST-MODIFIED:20251001T200825Z
UID:2854-1760538600-1760538600@lesjardiniersdemaubeuge.fr
SUMMARY:Desserts aux fruits exotiques
DESCRIPTION:
URL:https://lesjardiniersdemaubeuge.fr/evenement/desserts-aux-fruits-exotiques/
END:VEVENT
BEGIN:VEVENT
DTSTART;TZID=Europe/Paris:20251024T100000
DTEND;TZID=Europe/Paris:20251024T100000
DTSTAMP:20260425T030259
CREATED:20250902T190744Z
LAST-MODIFIED:20250902T190744Z
UID:2856-1761300000-1761300000@lesjardiniersdemaubeuge.fr
SUMMARY:Atelier poterie au Forum antique de Bavay
DESCRIPTION:Le vendredi 24 octobre 2025 à 10h au Forum antique de Bavay\, allée du Chanoine Biévelet : atelier poterie pour les enfants et petits-enfants des adhérents (6-15 ans). A la faveur des vacances scolaires\, le Forum antique propose de réaliser une poterie à motif végétal. Après une visite du jardin romain qui permettra de collecter quelques végétaux\, chacun réalisera une poterie où seront imprimés les végétaux sélectionnés\, puis il les mettra en peinture et repartira avec son chef d’œuvre. Participation gratuite. Nombre de places limité à 15. Inscription en téléphonant au 06 50 44 59 70 ou par mail à mariedespuyos@aol.fr.
URL:https://lesjardiniersdemaubeuge.fr/evenement/atelier-poterie-au-forum-antique-de-bavay/
END:VEVENT
END:VCALENDAR