BEGIN:VCALENDAR
VERSION:2.0
PRODID:-//Les Jardiniers de Maubeuge et de la Vallée de la Sambre - ECPv6.15.20//NONSGML v1.0//EN
CALSCALE:GREGORIAN
METHOD:PUBLISH
X-WR-CALNAME:Les Jardiniers de Maubeuge et de la Vallée de la Sambre
X-ORIGINAL-URL:https://lesjardiniersdemaubeuge.fr
X-WR-CALDESC:Évènements pour Les Jardiniers de Maubeuge et de la Vallée de la Sambre
REFRESH-INTERVAL;VALUE=DURATION:PT1H
X-Robots-Tag:noindex
X-PUBLISHED-TTL:PT1H
BEGIN:VTIMEZONE
TZID:Europe/Paris
BEGIN:DAYLIGHT
TZOFFSETFROM:+0100
TZOFFSETTO:+0200
TZNAME:CEST
DTSTART:20250330T010000
END:DAYLIGHT
BEGIN:STANDARD
TZOFFSETFROM:+0200
TZOFFSETTO:+0100
TZNAME:CET
DTSTART:20251026T010000
END:STANDARD
BEGIN:DAYLIGHT
TZOFFSETFROM:+0100
TZOFFSETTO:+0200
TZNAME:CEST
DTSTART:20260329T010000
END:DAYLIGHT
BEGIN:STANDARD
TZOFFSETFROM:+0200
TZOFFSETTO:+0100
TZNAME:CET
DTSTART:20261025T010000
END:STANDARD
BEGIN:DAYLIGHT
TZOFFSETFROM:+0100
TZOFFSETTO:+0200
TZNAME:CEST
DTSTART:20270328T010000
END:DAYLIGHT
BEGIN:STANDARD
TZOFFSETFROM:+0200
TZOFFSETTO:+0100
TZNAME:CET
DTSTART:20271031T010000
END:STANDARD
END:VTIMEZONE
BEGIN:VEVENT
DTSTART;TZID=Europe/Paris:20260502T143000
DTEND;TZID=Europe/Paris:20260502T143000
DTSTAMP:20260424T144315
CREATED:20251215T174702Z
LAST-MODIFIED:20260420T201459Z
UID:3124-1777732200-1777732200@lesjardiniersdemaubeuge.fr
SUMMARY:39eme troc de plantes
DESCRIPTION:
URL:https://lesjardiniersdemaubeuge.fr/evenement/3124/
END:VEVENT
BEGIN:VEVENT
DTSTART;TZID=Europe/Paris:20260530T150000
DTEND;TZID=Europe/Paris:20260530T150000
DTSTAMP:20260424T144315
CREATED:20251215T175511Z
LAST-MODIFIED:20251215T175512Z
UID:3128-1780153200-1780153200@lesjardiniersdemaubeuge.fr
SUMMARY:Trucs et astuces des jardiniers
DESCRIPTION:Le samedi 30 mai 2026 à 15h dans la grange de la Ferme du zoo\, allée de la Polyclinique à Maubeuge : animation sur le thème « Les trucs et astuces des jardiniers »\, par une équipe de membres de notre association. On trouve beaucoup de conseils sur internet ou dans les magasins mais rien ne vaut de se fier à l’expérience de jardiniers expérimentés. Ils vous feront part de leurs pratiques\, issues d’années d’observation et de transmission des anciens. Une fiche récapitulative vous sera remise. N’hésitez pas à inviter vos voisins et autres relations. Entrée libre sans inscription.
URL:https://lesjardiniersdemaubeuge.fr/evenement/trucs-et-astuces-des-jardiniers/
END:VEVENT
BEGIN:VEVENT
DTSTART;TZID=Europe/Paris:20260606T150000
DTEND;TZID=Europe/Paris:20260606T150000
DTSTAMP:20260424T144315
CREATED:20251215T175622Z
LAST-MODIFIED:20251215T175738Z
UID:3130-1780758000-1780758000@lesjardiniersdemaubeuge.fr
SUMMARY:Rendez-vous aux jardins
DESCRIPTION:Le samedi 6 juin 2026 à 15h à la Ferme du zoo\, allée de la Polyclinique à Maubeuge : opération « Rendez-vous aux jardins »\, dans le cadre de la manifestation nationale organisée à l’initiative du Ministère de la Culture. Cette après-midi donnera l’occasion d’accueillir le public dans nos jardins et de montrer la richesse et la diversité de nos cultures. Nous proposerons des ateliers ludiques pour les adultes et pour les enfants. Vous pourrez vous amuser à tester vos connaissances. Les enfants pourront repartir avec les plantes qu’ils auront repiquées. \n\n\n\nEntrée libre sans inscription. Parlez-en autour de vous.
URL:https://lesjardiniersdemaubeuge.fr/evenement/3130/
END:VEVENT
BEGIN:VEVENT
DTSTART;TZID=Europe/Paris:20260627T150000
DTEND;TZID=Europe/Paris:20260627T150000
DTSTAMP:20260424T144315
CREATED:20251215T175952Z
LAST-MODIFIED:20251215T175953Z
UID:3133-1782572400-1782572400@lesjardiniersdemaubeuge.fr
SUMMARY:Visite guidée du jardin de B et J Bruyère
DESCRIPTION:Le samedi 27 juin 2026 à 15h\, au 15 rue Henri-Farman à Maubeuge (Pont-Allant)\, visite guidée du jardin de Brigitte et Joël Bruyère. Nos amis nous présenteront leur potager\, leurs fleurs\, leurs arbustes d’ornement\, leurs petits fruits. Venez découvrir un très beau jardin\, créé et entretenu avec passion par nos adhérents. \n\n\n\nEntrée gratuite et ouverte à tous\, sans inscription. Se garer à proximité\, sur le parking de l’Ecole du Pont-Allant.
URL:https://lesjardiniersdemaubeuge.fr/evenement/visite-guidee-du-jardin-de-b-et-j-bruyere/
END:VEVENT
END:VCALENDAR