BEGIN:VCALENDAR
VERSION:2.0
PRODID:-//Les Jardiniers de Maubeuge et de la Vallée de la Sambre - ECPv6.15.20//NONSGML v1.0//EN
CALSCALE:GREGORIAN
METHOD:PUBLISH
X-ORIGINAL-URL:https://lesjardiniersdemaubeuge.fr
X-WR-CALDESC:Évènements pour Les Jardiniers de Maubeuge et de la Vallée de la Sambre
REFRESH-INTERVAL;VALUE=DURATION:PT1H
X-Robots-Tag:noindex
X-PUBLISHED-TTL:PT1H
BEGIN:VTIMEZONE
TZID:Europe/Paris
BEGIN:DAYLIGHT
TZOFFSETFROM:+0100
TZOFFSETTO:+0200
TZNAME:CEST
DTSTART:20250330T010000
END:DAYLIGHT
BEGIN:STANDARD
TZOFFSETFROM:+0200
TZOFFSETTO:+0100
TZNAME:CET
DTSTART:20251026T010000
END:STANDARD
BEGIN:DAYLIGHT
TZOFFSETFROM:+0100
TZOFFSETTO:+0200
TZNAME:CEST
DTSTART:20260329T010000
END:DAYLIGHT
BEGIN:STANDARD
TZOFFSETFROM:+0200
TZOFFSETTO:+0100
TZNAME:CET
DTSTART:20261025T010000
END:STANDARD
BEGIN:DAYLIGHT
TZOFFSETFROM:+0100
TZOFFSETTO:+0200
TZNAME:CEST
DTSTART:20270328T010000
END:DAYLIGHT
BEGIN:STANDARD
TZOFFSETFROM:+0200
TZOFFSETTO:+0100
TZNAME:CET
DTSTART:20271031T010000
END:STANDARD
END:VTIMEZONE
BEGIN:VEVENT
DTSTART;TZID=Europe/Paris:20260627T150000
DTEND;TZID=Europe/Paris:20260627T150000
DTSTAMP:20260424T221347
CREATED:20251215T175952Z
LAST-MODIFIED:20251215T175953Z
UID:3133-1782572400-1782572400@lesjardiniersdemaubeuge.fr
SUMMARY:Visite guidée du jardin de B et J Bruyère
DESCRIPTION:Le samedi 27 juin 2026 à 15h\, au 15 rue Henri-Farman à Maubeuge (Pont-Allant)\, visite guidée du jardin de Brigitte et Joël Bruyère. Nos amis nous présenteront leur potager\, leurs fleurs\, leurs arbustes d’ornement\, leurs petits fruits. Venez découvrir un très beau jardin\, créé et entretenu avec passion par nos adhérents. \n\n\n\nEntrée gratuite et ouverte à tous\, sans inscription. Se garer à proximité\, sur le parking de l’Ecole du Pont-Allant.
URL:https://lesjardiniersdemaubeuge.fr/evenement/visite-guidee-du-jardin-de-b-et-j-bruyere/
END:VEVENT
END:VCALENDAR