BEGIN:VCALENDAR
VERSION:2.0
PRODID:-//Les Jardiniers de Maubeuge et de la Vallée de la Sambre - ECPv6.15.20//NONSGML v1.0//EN
CALSCALE:GREGORIAN
METHOD:PUBLISH
X-ORIGINAL-URL:https://lesjardiniersdemaubeuge.fr
X-WR-CALDESC:Évènements pour Les Jardiniers de Maubeuge et de la Vallée de la Sambre
REFRESH-INTERVAL;VALUE=DURATION:PT1H
X-Robots-Tag:noindex
X-PUBLISHED-TTL:PT1H
BEGIN:VTIMEZONE
TZID:Europe/Paris
BEGIN:DAYLIGHT
TZOFFSETFROM:+0100
TZOFFSETTO:+0200
TZNAME:CEST
DTSTART:20250330T010000
END:DAYLIGHT
BEGIN:STANDARD
TZOFFSETFROM:+0200
TZOFFSETTO:+0100
TZNAME:CET
DTSTART:20251026T010000
END:STANDARD
BEGIN:DAYLIGHT
TZOFFSETFROM:+0100
TZOFFSETTO:+0200
TZNAME:CEST
DTSTART:20260329T010000
END:DAYLIGHT
BEGIN:STANDARD
TZOFFSETFROM:+0200
TZOFFSETTO:+0100
TZNAME:CET
DTSTART:20261025T010000
END:STANDARD
BEGIN:DAYLIGHT
TZOFFSETFROM:+0100
TZOFFSETTO:+0200
TZNAME:CEST
DTSTART:20270328T010000
END:DAYLIGHT
BEGIN:STANDARD
TZOFFSETFROM:+0200
TZOFFSETTO:+0100
TZNAME:CET
DTSTART:20271031T010000
END:STANDARD
END:VTIMEZONE
BEGIN:VEVENT
DTSTART;TZID=Europe/Paris:20260310T170000
DTEND;TZID=Europe/Paris:20260310T170000
DTSTAMP:20260424T221439
CREATED:20251215T173341Z
LAST-MODIFIED:20251215T173542Z
UID:3116-1773162000-1773162000@lesjardiniersdemaubeuge.fr
SUMMARY:Assemblée générale annuelle
DESCRIPTION:Le mardi 10 mars 2026 à 17h à la Salle des fêtes du Faubourg de Mons\, route de Mons à Maubeuge : assemblée générale annuelle. Vous recevrez en février les documents correspondants. Nous espérons vous y retrouver nombreux. En cas d’empêchement\, merci de penser à nous envoyer votre pouvoir. Avant le pot de l’amitié\, nous aurons l’occasion de visionner le diaporama des activités 2025 préparé par Bernard Démaret à partir de vos photos.
URL:https://lesjardiniersdemaubeuge.fr/evenement/assemblee-generale-annuelle/
END:VEVENT
END:VCALENDAR