BEGIN:VCALENDAR
VERSION:2.0
PRODID:-//Les Jardiniers de Maubeuge et de la Vallée de la Sambre - ECPv6.15.20//NONSGML v1.0//EN
CALSCALE:GREGORIAN
METHOD:PUBLISH
X-WR-CALNAME:Les Jardiniers de Maubeuge et de la Vallée de la Sambre
X-ORIGINAL-URL:https://lesjardiniersdemaubeuge.fr
X-WR-CALDESC:Évènements pour Les Jardiniers de Maubeuge et de la Vallée de la Sambre
REFRESH-INTERVAL;VALUE=DURATION:PT1H
X-Robots-Tag:noindex
X-PUBLISHED-TTL:PT1H
BEGIN:VTIMEZONE
TZID:Europe/Paris
BEGIN:DAYLIGHT
TZOFFSETFROM:+0100
TZOFFSETTO:+0200
TZNAME:CEST
DTSTART:20240331T010000
END:DAYLIGHT
BEGIN:STANDARD
TZOFFSETFROM:+0200
TZOFFSETTO:+0100
TZNAME:CET
DTSTART:20241027T010000
END:STANDARD
BEGIN:DAYLIGHT
TZOFFSETFROM:+0100
TZOFFSETTO:+0200
TZNAME:CEST
DTSTART:20250330T010000
END:DAYLIGHT
BEGIN:STANDARD
TZOFFSETFROM:+0200
TZOFFSETTO:+0100
TZNAME:CET
DTSTART:20251026T010000
END:STANDARD
BEGIN:DAYLIGHT
TZOFFSETFROM:+0100
TZOFFSETTO:+0200
TZNAME:CEST
DTSTART:20260329T010000
END:DAYLIGHT
BEGIN:STANDARD
TZOFFSETFROM:+0200
TZOFFSETTO:+0100
TZNAME:CET
DTSTART:20261025T010000
END:STANDARD
END:VTIMEZONE
BEGIN:VEVENT
DTSTART;TZID=Europe/Paris:20251115T100000
DTEND;TZID=Europe/Paris:20251116T170000
DTSTAMP:20260425T030257
CREATED:20250902T191221Z
LAST-MODIFIED:20250902T191221Z
UID:2860-1763200800-1763312400@lesjardiniersdemaubeuge.fr
SUMMARY:2eme salon "Bien vivre en Sambre Avesnois"
DESCRIPTION:Le samedi 15 et le dimanche 16 novembre 2025 à l’Espace Sculfort\, avenue Jean-Jaurès à Maubeuge : participation au 2ème Salon du « Bien vivre en Sambre-Avesnois »\, organisé par le Lions Club de Maubeuge. Notre association tiendra un stand pour présenter nos activités et inviter le grand public à nous rejoindre. N’hésitez pas à venir nous voir et à passer du temps sur place pour le plaisir de se rencontrer.
URL:https://lesjardiniersdemaubeuge.fr/evenement/2eme-salon-bien-vivre-en-sambre-avesnois/
END:VEVENT
END:VCALENDAR