BEGIN:VCALENDAR
VERSION:2.0
PRODID:-//Les Jardiniers de Maubeuge et de la Vallée de la Sambre - ECPv6.15.20//NONSGML v1.0//EN
CALSCALE:GREGORIAN
METHOD:PUBLISH
X-ORIGINAL-URL:https://lesjardiniersdemaubeuge.fr
X-WR-CALDESC:Évènements pour Les Jardiniers de Maubeuge et de la Vallée de la Sambre
REFRESH-INTERVAL;VALUE=DURATION:PT1H
X-Robots-Tag:noindex
X-PUBLISHED-TTL:PT1H
BEGIN:VTIMEZONE
TZID:Europe/Paris
BEGIN:DAYLIGHT
TZOFFSETFROM:+0100
TZOFFSETTO:+0200
TZNAME:CEST
DTSTART:20240331T010000
END:DAYLIGHT
BEGIN:STANDARD
TZOFFSETFROM:+0200
TZOFFSETTO:+0100
TZNAME:CET
DTSTART:20241027T010000
END:STANDARD
BEGIN:DAYLIGHT
TZOFFSETFROM:+0100
TZOFFSETTO:+0200
TZNAME:CEST
DTSTART:20250330T010000
END:DAYLIGHT
BEGIN:STANDARD
TZOFFSETFROM:+0200
TZOFFSETTO:+0100
TZNAME:CET
DTSTART:20251026T010000
END:STANDARD
BEGIN:DAYLIGHT
TZOFFSETFROM:+0100
TZOFFSETTO:+0200
TZNAME:CEST
DTSTART:20260329T010000
END:DAYLIGHT
BEGIN:STANDARD
TZOFFSETFROM:+0200
TZOFFSETTO:+0100
TZNAME:CET
DTSTART:20261025T010000
END:STANDARD
END:VTIMEZONE
BEGIN:VEVENT
DTSTART;TZID=Europe/Paris:20250405T150000
DTEND;TZID=Europe/Paris:20250405T150000
DTSTAMP:20260425T140501
CREATED:20241218T110629Z
LAST-MODIFIED:20250312T210045Z
UID:2337-1743865200-1743865200@lesjardiniersdemaubeuge.fr
SUMMARY:Atelier de greffage sur table d'arbres fruitiers
DESCRIPTION:Le samedi 5 avril 2025 à 15h à la Ferme du zoo\, allée de la Polyclinique à Maubeuge : atelier de greffage sur table d’arbres fruitiers\, animé par Jean-Marie Brasselet et William Skrjanc.  Vous aurez ainsi le plaisir d’obtenir 3 pommiers de variétés locales parfaitement adaptées à notre région. Nombre de places limité à 10\, s’inscrire par téléphone au 06 50 44 59 70. Participation aux frais : 20 €\, à régler par chèque au nom de notre association au moment de l’inscription\, compte tenu de la nécessité de commander les végétaux à l’avance.
URL:https://lesjardiniersdemaubeuge.fr/evenement/atelier-de-greffage-sur-table-darbres-fruitiers/
END:VEVENT
END:VCALENDAR