BEGIN:VCALENDAR
VERSION:2.0
PRODID:-//Les Jardiniers de Maubeuge et de la Vallée de la Sambre - ECPv6.15.20//NONSGML v1.0//EN
CALSCALE:GREGORIAN
METHOD:PUBLISH
X-WR-CALNAME:Les Jardiniers de Maubeuge et de la Vallée de la Sambre
X-ORIGINAL-URL:https://lesjardiniersdemaubeuge.fr
X-WR-CALDESC:Évènements pour Les Jardiniers de Maubeuge et de la Vallée de la Sambre
REFRESH-INTERVAL;VALUE=DURATION:PT1H
X-Robots-Tag:noindex
X-PUBLISHED-TTL:PT1H
BEGIN:VTIMEZONE
TZID:Europe/Paris
BEGIN:DAYLIGHT
TZOFFSETFROM:+0100
TZOFFSETTO:+0200
TZNAME:CEST
DTSTART:20240331T010000
END:DAYLIGHT
BEGIN:STANDARD
TZOFFSETFROM:+0200
TZOFFSETTO:+0100
TZNAME:CET
DTSTART:20241027T010000
END:STANDARD
BEGIN:DAYLIGHT
TZOFFSETFROM:+0100
TZOFFSETTO:+0200
TZNAME:CEST
DTSTART:20250330T010000
END:DAYLIGHT
BEGIN:STANDARD
TZOFFSETFROM:+0200
TZOFFSETTO:+0100
TZNAME:CET
DTSTART:20251026T010000
END:STANDARD
BEGIN:DAYLIGHT
TZOFFSETFROM:+0100
TZOFFSETTO:+0200
TZNAME:CEST
DTSTART:20260329T010000
END:DAYLIGHT
BEGIN:STANDARD
TZOFFSETFROM:+0200
TZOFFSETTO:+0100
TZNAME:CET
DTSTART:20261025T010000
END:STANDARD
END:VTIMEZONE
BEGIN:VEVENT
DTSTART;TZID=Europe/Paris:20250329T143000
DTEND;TZID=Europe/Paris:20250329T150000
DTSTAMP:20260425T153445
CREATED:20241218T110205Z
LAST-MODIFIED:20241218T110207Z
UID:2334-1743258600-1743260400@lesjardiniersdemaubeuge.fr
SUMMARY:Repas partagé des adhérents
DESCRIPTION:Le samedi 29 mars 2025 à 19 h à la Salle des fêtes du Pont-Allant à Maubeuge\, à l’angle des rues de l’Ancien Pont Rouge et Georges-Guynemer : repas partagé des adhérents. Ce moment de convivialité si attendu nous permet de nous retrouver dans une ambiance amicale autour d’un bon repas. Chacun apporte un plat salé ou sucré\, l’association offre les boissons. Pour une bonne organisation\, il est demandé de s’inscrire en téléphonant au 06 50 44 59 70\, en précisant ce que l’on compte apporter et le nombre de convives.
URL:https://lesjardiniersdemaubeuge.fr/evenement/repas-partage-des-adherents-3/
END:VEVENT
END:VCALENDAR