BEGIN:VCALENDAR
VERSION:2.0
PRODID:-//Les Jardiniers de Maubeuge et de la Vallée de la Sambre - ECPv6.15.20//NONSGML v1.0//EN
CALSCALE:GREGORIAN
METHOD:PUBLISH
X-ORIGINAL-URL:https://lesjardiniersdemaubeuge.fr
X-WR-CALDESC:Évènements pour Les Jardiniers de Maubeuge et de la Vallée de la Sambre
REFRESH-INTERVAL;VALUE=DURATION:PT1H
X-Robots-Tag:noindex
X-PUBLISHED-TTL:PT1H
BEGIN:VTIMEZONE
TZID:Europe/Paris
BEGIN:DAYLIGHT
TZOFFSETFROM:+0100
TZOFFSETTO:+0200
TZNAME:CEST
DTSTART:20240331T010000
END:DAYLIGHT
BEGIN:STANDARD
TZOFFSETFROM:+0200
TZOFFSETTO:+0100
TZNAME:CET
DTSTART:20241027T010000
END:STANDARD
BEGIN:DAYLIGHT
TZOFFSETFROM:+0100
TZOFFSETTO:+0200
TZNAME:CEST
DTSTART:20250330T010000
END:DAYLIGHT
BEGIN:STANDARD
TZOFFSETFROM:+0200
TZOFFSETTO:+0100
TZNAME:CET
DTSTART:20251026T010000
END:STANDARD
BEGIN:DAYLIGHT
TZOFFSETFROM:+0100
TZOFFSETTO:+0200
TZNAME:CEST
DTSTART:20260329T010000
END:DAYLIGHT
BEGIN:STANDARD
TZOFFSETFROM:+0200
TZOFFSETTO:+0100
TZNAME:CET
DTSTART:20261025T010000
END:STANDARD
END:VTIMEZONE
BEGIN:VEVENT
DTSTART;TZID=Europe/Paris:20250304T170000
DTEND;TZID=Europe/Paris:20250304T170000
DTSTAMP:20260425T153650
CREATED:20241218T105654Z
LAST-MODIFIED:20241218T110005Z
UID:2329-1741107600-1741107600@lesjardiniersdemaubeuge.fr
SUMMARY:Assemblée générale annuelle
DESCRIPTION:Le mardi 4 mars 2025 à 17h à la Salle des fêtes du Faubourg de Mons\, route de Mons à Maubeuge : assemblée générale annuelle. Vous recevrez en février les documents correspondants. Nous espérons vous y retrouver nombreux. En cas d’empêchement\, merci de penser à nous envoyer votre pouvoir. Avant le pot de l’amitié\, nous aurons l’occasion de visionner le diaporama des activités 2024\, préparé par Bernard Démaret à partir de vos photos.
URL:https://lesjardiniersdemaubeuge.fr/evenement/2329/
END:VEVENT
END:VCALENDAR